BEGIN:VCALENDAR
VERSION:2.0
PRODID:-//Town of Carbonear - ECPv5.4.0.2//NONSGML v1.0//EN
CALSCALE:GREGORIAN
METHOD:PUBLISH
X-WR-CALNAME:Town of Carbonear
X-ORIGINAL-URL:https://carbonear.ca
X-WR-CALDESC:Events for Town of Carbonear
BEGIN:VTIMEZONE
TZID:America/St_Johns
BEGIN:DAYLIGHT
TZOFFSETFROM:-0330
TZOFFSETTO:-0230
TZNAME:NDT
DTSTART:20250309T053000
END:DAYLIGHT
BEGIN:STANDARD
TZOFFSETFROM:-0230
TZOFFSETTO:-0330
TZNAME:NST
DTSTART:20251102T043000
END:STANDARD
END:VTIMEZONE
BEGIN:VEVENT
DTSTART;TZID=America/St_Johns:20251018T100000
DTEND;TZID=America/St_Johns:20251018T160000
DTSTAMP:20260424T152155
CREATED:20251010T124925Z
LAST-MODIFIED:20251010T130349Z
UID:10466-1760781600-1760803200@carbonear.ca
SUMMARY:Hub of the Bay Harvest Festival Original Art Show and Vendor Fair
DESCRIPTION:Hub of the Bay Harvest Festival Original Art Show and Vendor Fair\n\n\nSaturday\, October 18\, 2025 from 10:00 a.m. to 4:00 p.m.\n256 Water Street\, Carbonear\nConception Bay Regional Community Centre\n\n\nStill a few spaces left!\n\n\nInterested in signing up to be a vendor?\n\n\nComplete the link below:\nhttps://www.surveymonkey.com/r/HarvestFestVendorFair2025\nor\nEmail: carbonear@nf.aibn.com\n\n\nTable booking fee: $20.00
URL:https://carbonear.ca/event/hub-of-the-bay-harvest-festival-original-art-show-and-vendor-fair/
END:VEVENT
END:VCALENDAR