BEGIN:VCALENDAR
VERSION:2.0
PRODID:-//Town of Carbonear - ECPv5.4.0.2//NONSGML v1.0//EN
CALSCALE:GREGORIAN
METHOD:PUBLISH
X-WR-CALNAME:Town of Carbonear
X-ORIGINAL-URL:https://carbonear.ca
X-WR-CALDESC:Events for Town of Carbonear
BEGIN:VTIMEZONE
TZID:America/St_Johns
BEGIN:DAYLIGHT
TZOFFSETFROM:-0330
TZOFFSETTO:-0230
TZNAME:NDT
DTSTART:20250309T053000
END:DAYLIGHT
BEGIN:STANDARD
TZOFFSETFROM:-0230
TZOFFSETTO:-0330
TZNAME:NST
DTSTART:20251102T043000
END:STANDARD
END:VTIMEZONE
BEGIN:VEVENT
DTSTART;TZID=America/St_Johns:20251018T100000
DTEND;TZID=America/St_Johns:20251018T150000
DTSTAMP:20260424T133023
CREATED:20251010T124840Z
LAST-MODIFIED:20251010T124840Z
UID:10463-1760781600-1760799600@carbonear.ca
SUMMARY:Carbonear Crafters Circle Exhibition & Demonstration
DESCRIPTION:Carbonear Crafters Circle Exhibition & Demonstration \n\n\n\nDiscover the creativity of local artisans\, crafters and hobbyists displaying their talent and skills at the Carbonear Crafters Circle Exhibition.\n\n\nEnjoy a vibrant display of members’ work and demonstrations at the College of North Atlantic Carbonear Campus cafeteria.\nCome see all the creative talent in our community!\n\n\nSaturday\, October 18\, 2025\n10:00 a.m.—3:00 p.m.\nCNA Carbonear Campus Cafeteria
URL:https://carbonear.ca/event/carbonear-crafters-circle-exhibition-demonstration/
END:VEVENT
END:VCALENDAR