BEGIN:VCALENDAR
VERSION:2.0
PRODID:-//Town of Carbonear - ECPv5.4.0.2//NONSGML v1.0//EN
CALSCALE:GREGORIAN
METHOD:PUBLISH
X-WR-CALNAME:Town of Carbonear
X-ORIGINAL-URL:https://carbonear.ca
X-WR-CALDESC:Events for Town of Carbonear
BEGIN:VTIMEZONE
TZID:America/St_Johns
BEGIN:DAYLIGHT
TZOFFSETFROM:-0330
TZOFFSETTO:-0230
TZNAME:NDT
DTSTART:20250309T053000
END:DAYLIGHT
BEGIN:STANDARD
TZOFFSETFROM:-0230
TZOFFSETTO:-0330
TZNAME:NST
DTSTART:20251102T043000
END:STANDARD
END:VTIMEZONE
BEGIN:VEVENT
DTSTART;TZID=America/St_Johns:20250306T140000
DTEND;TZID=America/St_Johns:20250306T210000
DTSTAMP:20260419T102013
CREATED:20250306T122041Z
LAST-MODIFIED:20250306T122041Z
UID:9781-1741269600-1741294800@carbonear.ca
SUMMARY:Avalon West Regional Drama Festival performances today
DESCRIPTION:Avalon West Regional Drama Festival\nCome out and support all of the incredible talent our young folk have to offer.\n\n\nALL TIMES ARE APPROXIMATE\nADMISSION $5 cash\n(available at the door prior to play)\n\n\n\n\nThursday’s performances:\n2:00pm Laval\n3:00pm Laval\n5:15pm Baccalieu Collegiate Jr.\n6:15pm Baccalieu Collegiate Sr.\n7:15pm Carbonear collegiate Sr.
URL:https://carbonear.ca/event/avalon-west-regional-drama-festival-performances-today/
END:VEVENT
END:VCALENDAR